BEGIN:VCALENDAR
VERSION:2.0
PRODID:-//wp-events-plugin.com//7.2.3.1//EN
TZID:Europe/Berlin
X-WR-TIMEZONE:Europe/Berlin
BEGIN:VEVENT
UID:1-6516@museen-tempelhof-schoeneberg.de
DTSTART;TZID=Europe/Berlin:20251011T143000
DTEND;TZID=Europe/Berlin:20251011T220000
DTSTAMP:20251008T092800Z
URL:https://museen-tempelhof-schoeneberg.de/events/5-kultursommerfest/
SUMMARY:LautStark! Das Jugend Museum wird 30!
DESCRIPTION:Mit viel Live-Musik\, Theater\, Ausstellungen\, Lesungen und kr
 eativen Spiel- und Mitmachangeboten\, lädt das Amt für Weiterbildung und
  Kultur in Tempelhof-Schöneberg dazu ein\, den Sommer noch einmal in voll
 en Zügen zu genießen und entspannt ausklingen zu lassen.
ATTACH;FMTTYPE=image/jpeg:https://museen-tempelhof-schoeneberg.de/wp-conte
 nt/uploads/2025/09/Share-Pic-1.jpg
CATEGORIES:Jugend Museum
END:VEVENT
BEGIN:VTIMEZONE
TZID:Europe/Berlin
X-LIC-LOCATION:Europe/Berlin
BEGIN:DAYLIGHT
DTSTART:20250330T030000
TZOFFSETFROM:+0100
TZOFFSETTO:+0200
TZNAME:CEST
END:DAYLIGHT
END:VTIMEZONE
END:VCALENDAR