BEGIN:VCALENDAR
VERSION:2.0
PRODID:-//wp-events-plugin.com//7.2.3.1//EN
TZID:Europe/Berlin
X-WR-TIMEZONE:Europe/Berlin
BEGIN:VEVENT
UID:1-6411@museen-tempelhof-schoeneberg.de
DTSTART;TZID=Europe/Berlin:20231123T190000
DTEND;TZID=Europe/Berlin:20231123T190000
DTSTAMP:20231108T103853Z
URL:https://museen-tempelhof-schoeneberg.de/events/antisemitische-wohnungs
 politik-in-berlin-ab-1939/
SUMMARY:Vortrag: Antisemitische Wohnungspolitik in Berlin ab 1939
DESCRIPTION:Das Projekt Zwangsräume und Häusergeschichten im Bezirk
ATTACH;FMTTYPE=image/jpeg:https://museen-tempelhof-schoeneberg.de/wp-conte
 nt/uploads/2023/10/2023_11_23_Basisdaten-©-OpenStreetMap-Mitwirkende-Kart
 ografie-©-grebemaps.de-Gestaltung-©-Zoff-Kollektiv.jpg
CATEGORIES:Begleitprogramm Schöneberg,Vortrag
END:VEVENT
BEGIN:VTIMEZONE
TZID:Europe/Berlin
X-LIC-LOCATION:Europe/Berlin
BEGIN:STANDARD
DTSTART:20231029T020000
TZOFFSETFROM:+0200
TZOFFSETTO:+0100
TZNAME:CET
END:STANDARD
END:VTIMEZONE
END:VCALENDAR