BEGIN:VCALENDAR
VERSION:2.0
PRODID:-//wp-events-plugin.com//7.2.3.1//EN
TZID:Europe/Berlin
X-WR-TIMEZONE:Europe/Berlin
BEGIN:VEVENT
UID:1-3822@museen-tempelhof-schoeneberg.de
DTSTART;TZID=Europe/Berlin:20230318T180000
DTEND;TZID=Europe/Berlin:20230318T180000
DTSTAMP:20230311T173215Z
URL:https://museen-tempelhof-schoeneberg.de/events/audre-lorde-the-berlin-
 years-1984-to-1992/
SUMMARY:Audre Lorde – The Berlin Years 1984 to 1992
DESCRIPTION:FILM UND GESPRÄCH
ATTACH;FMTTYPE=image/jpeg:https://museen-tempelhof-schoeneberg.de/wp-conte
 nt/uploads/2023/03/KKG-audrelorde_dvd.jpg
CATEGORIES:Schöneberg Museum
LOCATION:Xenon Kino Berlin\, Kolonnenstraße 5-6\, Berlin\, 10827
X-APPLE-STRUCTURED-LOCATION;VALUE=URI;X-ADDRESS=Kolonnenstraße 5-6\, Berli
 n\, 10827\, Deutschland;X-APPLE-RADIUS=100;X-TITLE=Xenon Kino Berlin:geo:0
 ,0
END:VEVENT
BEGIN:VTIMEZONE
TZID:Europe/Berlin
X-LIC-LOCATION:Europe/Berlin
BEGIN:STANDARD
DTSTART:20221030T020000
TZOFFSETFROM:+0200
TZOFFSETTO:+0100
TZNAME:CET
END:STANDARD
END:VTIMEZONE
END:VCALENDAR