BEGIN:VCALENDAR
VERSION:2.0
PRODID:-//wp-events-plugin.com//7.2.3.1//EN
TZID:Europe/Berlin
X-WR-TIMEZONE:Europe/Berlin
BEGIN:VEVENT
UID:1-6813@museen-tempelhof-schoeneberg.de
DTSTART;TZID=Europe/Berlin:20260509T130000
DTEND;TZID=Europe/Berlin:20260509T153000
DTSTAMP:20260423T103528Z
URL:https://museen-tempelhof-schoeneberg.de/events/bezirkstour-76-jahre-fr
 eiheitsglocke-rathaus-schoeneberg-eine-zeitreise-in-die-vergangenheit/
SUMMARY:BezirksTour: 76 Jahre Freiheitsglocke Rathaus Schöneberg –  Eine
  Zeitreise in die Vergangenheit
DESCRIPTION:Rundgang mit Marita Filipowsky (Berliner Geschichtswerkstatt e.
 V. www.berliner-geschichtswerkstatt.de )
ATTACH;FMTTYPE=image/jpeg:https://museen-tempelhof-schoeneberg.de/wp-conte
 nt/uploads/2023/03/Screenshot-2026-04-14-161345-1.png
CATEGORIES:BezirksTouren
END:VEVENT
BEGIN:VTIMEZONE
TZID:Europe/Berlin
X-LIC-LOCATION:Europe/Berlin
BEGIN:DAYLIGHT
DTSTART:20260329T030000
TZOFFSETFROM:+0100
TZOFFSETTO:+0200
TZNAME:CEST
END:DAYLIGHT
END:VTIMEZONE
END:VCALENDAR