BEGIN:VCALENDAR
VERSION:2.0
PRODID:-//wp-events-plugin.com//7.2.3.1//EN
TZID:Europe/Berlin
X-WR-TIMEZONE:Europe/Berlin
BEGIN:VEVENT
UID:1-6635@museen-tempelhof-schoeneberg.de
DTSTART;TZID=Europe/Berlin:20250705T130000
DTEND;TZID=Europe/Berlin:20250705T150000
DTSTAMP:20250702T084535Z
URL:https://museen-tempelhof-schoeneberg.de/events/bezirkstour-connection-
 lost-attempting-to-reestablish-eine-persoenliche-perspektive-aus-schoenebe
 rg/
SUMMARY:BezirksTour: Connection lost. Attempting to reestablish - Eine pers
 önliche Perspektive aus Schöneberg
DESCRIPTION:BezirksTour: Connection lost. Attempting to reestablish – Ein
 e persönliche Perspektive aus Schöneberg
ATTACH;FMTTYPE=image/jpeg:https://museen-tempelhof-schoeneberg.de/wp-conte
 nt/uploads/2025/04/20240611_105410-scaled.jpg
CATEGORIES:BezirksTouren
END:VEVENT
BEGIN:VTIMEZONE
TZID:Europe/Berlin
X-LIC-LOCATION:Europe/Berlin
BEGIN:DAYLIGHT
DTSTART:20250330T030000
TZOFFSETFROM:+0100
TZOFFSETTO:+0200
TZNAME:CEST
END:DAYLIGHT
END:VTIMEZONE
END:VCALENDAR