BEGIN:VCALENDAR
VERSION:2.0
PRODID:-//wp-events-plugin.com//7.2.3.1//EN
TZID:Europe/Berlin
X-WR-TIMEZONE:Europe/Berlin
BEGIN:VEVENT
UID:1-6738@museen-tempelhof-schoeneberg.de
DTSTART;TZID=Europe/Berlin:20250925T173000
DTEND;TZID=Europe/Berlin:20250925T173000
DTSTAMP:20250925T102146Z
URL:https://museen-tempelhof-schoeneberg.de/events/bezirkstour-fuehrung-ue
 ber-den-truemmerberg-marienhoehe/
SUMMARY:BezirksTour: Führung über den Trümmerberg Marienhöhe
DESCRIPTION:Rundgang mit Caroline Böttcher
ATTACH;FMTTYPE=image/jpeg:https://museen-tempelhof-schoeneberg.de/wp-conte
 nt/uploads/2025/04/F_Rep_290_0034110_Ausschnitt-quer.jpg
CATEGORIES:BezirksTouren
LOCATION:https://maps.app.goo.gl/cauZtmNFdXqPB6AR7?g_st=com.google.maps.pre
 view.copy
END:VEVENT
BEGIN:VTIMEZONE
TZID:Europe/Berlin
X-LIC-LOCATION:Europe/Berlin
BEGIN:DAYLIGHT
DTSTART:20250330T030000
TZOFFSETFROM:+0100
TZOFFSETTO:+0200
TZNAME:CEST
END:DAYLIGHT
END:VTIMEZONE
END:VCALENDAR