BEGIN:VCALENDAR
VERSION:2.0
PRODID:-//wp-events-plugin.com//7.2.3.1//EN
TZID:Europe/Berlin
X-WR-TIMEZONE:Europe/Berlin
BEGIN:VEVENT
UID:1-6814@museen-tempelhof-schoeneberg.de
DTSTART;TZID=Europe/Berlin:20260510T130000
DTEND;TZID=Europe/Berlin:20260510T153000
DTSTAMP:20260423T123551Z
URL:https://museen-tempelhof-schoeneberg.de/events/bezirkstour-orte-ans-li
 cht-bringen-tempelhof-mariendorf-marienfelde-stadtgeschichtliche-radtour-z
 ur-fotoausstellung-von-michaela-booth/
SUMMARY:BezirksTOUR: Orte ans Licht bringen. Tempelhof\, Mariendorf\, Marie
 nfelde – stadtgeschichtliche Radtour zur Fotoausstellung von Michaela Bo
 oth
DESCRIPTION:Radtour mit Michael Vonderbank
ATTACH;FMTTYPE=image/jpeg:https://museen-tempelhof-schoeneberg.de/wp-conte
 nt/uploads/2026/04/BezirksTouren_Orte-ans-Licht-bringen-Gaswerk-Mariendorf
 -Credit-Michaela-Booth.jpg
CATEGORIES:BezirksTouren
END:VEVENT
BEGIN:VTIMEZONE
TZID:Europe/Berlin
X-LIC-LOCATION:Europe/Berlin
BEGIN:DAYLIGHT
DTSTART:20260329T030000
TZOFFSETFROM:+0100
TZOFFSETTO:+0200
TZNAME:CEST
END:DAYLIGHT
END:VTIMEZONE
END:VCALENDAR