BEGIN:VCALENDAR
VERSION:2.0
PRODID:-//wp-events-plugin.com//7.2.3.1//EN
TZID:Europe/Berlin
X-WR-TIMEZONE:Europe/Berlin
BEGIN:VEVENT
UID:1-6654@museen-tempelhof-schoeneberg.de
DTSTART;TZID=Europe/Berlin:20250914T200000
DTEND;TZID=Europe/Berlin:20250914T210000
DTSTAMP:20250912T114539Z
URL:https://museen-tempelhof-schoeneberg.de/events/bezirkstour-silent-disc
 o-tour-im-natur-park-suedgelaende-2/
SUMMARY:BezirksTour: Silent-Disco-Tour im Natur-Park Südgelände
DESCRIPTION:Diese besondere Tour lädt ein\, den einzigartigen Natur-Park S
 üdgelände tanzend neu zu erleben.
ATTACH;FMTTYPE=image/jpeg:https://museen-tempelhof-schoeneberg.de/wp-conte
 nt/uploads/2025/04/93-silent_move_suedgelaende_21.08.2024_stefan_klenke_FU
 JI_3013-Verbessert-RR.jpg
CATEGORIES:BezirksTouren
END:VEVENT
BEGIN:VTIMEZONE
TZID:Europe/Berlin
X-LIC-LOCATION:Europe/Berlin
BEGIN:DAYLIGHT
DTSTART:20250330T030000
TZOFFSETFROM:+0100
TZOFFSETTO:+0200
TZNAME:CEST
END:DAYLIGHT
END:VTIMEZONE
END:VCALENDAR