BEGIN:VCALENDAR
VERSION:2.0
PRODID:-//wp-events-plugin.com//7.2.3.1//EN
TZID:Europe/Berlin
X-WR-TIMEZONE:Europe/Berlin
BEGIN:VEVENT
UID:1-6536@museen-tempelhof-schoeneberg.de
DTSTART;TZID=Europe/Berlin:20240915T110000
DTEND;TZID=Europe/Berlin:20240915T110000
DTSTAMP:20240828T105220Z
URL:https://museen-tempelhof-schoeneberg.de/events/bezirkstour-vom-praelat
 en-zum-schwarzen-adler-auf-spurensuche-historischer-schoeneberger-gasthaeu
 ser-2/
SUMMARY:- Ausgebucht - BezirksTOUR: Kunst und Widerstand in Friedenau - Ein
 e idyllische Landgemeinde
DESCRIPTION:Führung mit Dr. Petra T. Fritsche
ATTACH;FMTTYPE=image/jpeg:https://museen-tempelhof-schoeneberg.de/wp-conte
 nt/uploads/2024/03/P1020742.jpeg
CATEGORIES:BezirksTouren
END:VEVENT
BEGIN:VTIMEZONE
TZID:Europe/Berlin
X-LIC-LOCATION:Europe/Berlin
BEGIN:DAYLIGHT
DTSTART:20240331T030000
TZOFFSETFROM:+0100
TZOFFSETTO:+0200
TZNAME:CEST
END:DAYLIGHT
END:VTIMEZONE
END:VCALENDAR