BEGIN:VCALENDAR
VERSION:2.0
PRODID:-//wp-events-plugin.com//7.2.3.1//EN
TZID:Europe/Berlin
X-WR-TIMEZONE:Europe/Berlin
BEGIN:VEVENT
UID:1-6535@museen-tempelhof-schoeneberg.de
DTSTART;TZID=Europe/Berlin:20240914T160000
DTEND;TZID=Europe/Berlin:20240914T160000
DTSTAMP:20240828T105243Z
URL:https://museen-tempelhof-schoeneberg.de/events/bezirkstour-vom-praelat
 en-zum-schwarzen-adler-auf-spurensuche-historischer-schoeneberger-gasthaeu
 ser/
SUMMARY:- Ausgebucht - BezirksTOUR: Vom Prälaten zum Schwarzen Adler - Auf
  Spurensuche historischer Schöneberger Gasthäuser
DESCRIPTION:Kiezspaziergang mit Marita Filipowsky (Berliner Geschichtswerks
 tatt e.V.)
ATTACH;FMTTYPE=image/jpeg:https://museen-tempelhof-schoeneberg.de/wp-conte
 nt/uploads/2024/07/Hau_370_Quelle_MTS_Archiv-sRGB.jpg
CATEGORIES:BezirksTouren
END:VEVENT
BEGIN:VTIMEZONE
TZID:Europe/Berlin
X-LIC-LOCATION:Europe/Berlin
BEGIN:DAYLIGHT
DTSTART:20240331T030000
TZOFFSETFROM:+0100
TZOFFSETTO:+0200
TZNAME:CEST
END:DAYLIGHT
END:VTIMEZONE
END:VCALENDAR