BEGIN:VCALENDAR
VERSION:2.0
PRODID:-//wp-events-plugin.com//7.2.3.1//EN
TZID:Europe/Berlin
X-WR-TIMEZONE:Europe/Berlin
BEGIN:VEVENT
UID:1-6414@museen-tempelhof-schoeneberg.de
DTSTART;TZID=Europe/Berlin:20231125T143000
DTEND;TZID=Europe/Berlin:20231125T143000
DTSTAMP:20231108T104122Z
URL:https://museen-tempelhof-schoeneberg.de/events/dekoloniale-fuehrung-in
 -schoeneberg-walk-the-past-change-the-future/
SUMMARY:Dekoloniale Führung in Schöneberg
DESCRIPTION:Walk the past. Change the future.
ATTACH;FMTTYPE=image/jpeg:https://museen-tempelhof-schoeneberg.de/wp-conte
 nt/uploads/2023/10/2023_11_25_Justice-Mvemba-von-Dekoloniale-Stadtfuehrung
 -Foto-Aime-Mvemba.jpg
CATEGORIES:BezirksTouren
END:VEVENT
BEGIN:VTIMEZONE
TZID:Europe/Berlin
X-LIC-LOCATION:Europe/Berlin
BEGIN:STANDARD
DTSTART:20231029T020000
TZOFFSETFROM:+0200
TZOFFSETTO:+0100
TZNAME:CET
END:STANDARD
END:VTIMEZONE
END:VCALENDAR