BEGIN:VCALENDAR
VERSION:2.0
PRODID:-//wp-events-plugin.com//7.2.3.1//EN
TZID:Europe/Berlin
X-WR-TIMEZONE:Europe/Berlin
BEGIN:VEVENT
UID:1-6404@museen-tempelhof-schoeneberg.de
DTSTART;TZID=Europe/Berlin:20231116T180000
DTEND;TZID=Europe/Berlin:20231116T180000
DTSTAMP:20231114T140232Z
URL:https://museen-tempelhof-schoeneberg.de/events/eroeffnung-der-ausstell
 ung-juergen-henschel-fotochronist-im-geteilten-berlin/
SUMMARY:Eröffnung der Ausstellung »Jürgen Henschel. Fotochronist im gete
 ilten Berlin«
DESCRIPTION:Im Archiv der Museen Tempelhof-Schöneberg finden sich etwa 23.
 000 Negative von Jürgen Henschel\, der auch als »Mann mit der Leiter« b
 ekannt ist. Zum 100. Geburtstag des Fotografen zeigt das Schöneberg Museu
 m 100 seiner Schwarz-Weiß-Aufnahmen von 1953 bis 1990. Sie erzählen Berl
 ingeschichte und spiegeln den Zeitgeist der geteilten Stadt.
ATTACH;FMTTYPE=image/jpeg:https://museen-tempelhof-schoeneberg.de/wp-conte
 nt/uploads/2023/10/Juergen_Henschel_Sportpalast_1967.jpg
CATEGORIES:Henschel Ausstellung,Schöneberg Museum
END:VEVENT
BEGIN:VTIMEZONE
TZID:Europe/Berlin
X-LIC-LOCATION:Europe/Berlin
BEGIN:STANDARD
DTSTART:20231029T020000
TZOFFSETFROM:+0200
TZOFFSETTO:+0100
TZNAME:CET
END:STANDARD
END:VTIMEZONE
END:VCALENDAR