BEGIN:VCALENDAR
VERSION:2.0
PRODID:-//wp-events-plugin.com//7.2.3.1//EN
TZID:Europe/Berlin
X-WR-TIMEZONE:Europe/Berlin
BEGIN:VEVENT
UID:1-6413@museen-tempelhof-schoeneberg.de
DTSTART;TZID=Europe/Berlin:20231117T180000
DTEND;TZID=Europe/Berlin:20231117T180000
DTSTAMP:20241024T082558Z
URL:https://museen-tempelhof-schoeneberg.de/events/eroeffnungsveranstaltun
 g-crosskultur-2023/
SUMMARY:Eröffnungsveranstaltung CrossKultur 2023
DESCRIPTION:Festival der Vielfalt
ATTACH;FMTTYPE=image/jpeg:https://museen-tempelhof-schoeneberg.de/wp-conte
 nt/uploads/2023/10/2023_11_17_Eroeffnung-Crosskultur_Tayo-Awosusi-Onutor-F
 oto-Gudrun-Arndt.jpg
CATEGORIES:CrossKultur
END:VEVENT
BEGIN:VTIMEZONE
TZID:Europe/Berlin
X-LIC-LOCATION:Europe/Berlin
BEGIN:STANDARD
DTSTART:20231029T020000
TZOFFSETFROM:+0200
TZOFFSETTO:+0100
TZNAME:CET
END:STANDARD
END:VTIMEZONE
END:VCALENDAR