BEGIN:VCALENDAR
VERSION:2.0
PRODID:-//wp-events-plugin.com//7.2.3.1//EN
TZID:Europe/Berlin
X-WR-TIMEZONE:Europe/Berlin
BEGIN:VEVENT
UID:1-6673@museen-tempelhof-schoeneberg.de
DTSTART;TZID=Europe/Berlin:20250913T150000
DTEND;TZID=Europe/Berlin:20250913T150000
DTSTAMP:20250912T090618Z
URL:https://museen-tempelhof-schoeneberg.de/events/fuehrung-am-schwerbelas
 tungskoerper-zum-tag-des-offenen-denkmals-2/
SUMMARY:+++ ENTFÄLLT+++ Führung am Schwerbelastungskörper zum Tag des Of
 fenen Denkmals
DESCRIPTION:Krankheitsbedingt muss die Führung leider ausfallen.\nDer 1941
  errichtete Schwerbelastungskörper ist eines der letzten Relikte der mons
 trösen und menschenverachtenden nationalsozialistischen Stadtplanung. Unw
 eit der geplanten Nord-Süd-Achse sollte der mehr als 12.000 Tonnen schwer
 e Betonzylinder die Tragfähigkeit des Bodens testen. Im Auftrag von Alber
 t Speer\, dem Generalbauinspektor für die Hauptstadt\, wurden im Zuge der
  Planungen tausende Menschen Opfer von Wohnungsverlust\, Zwangsarbeit und 
 Deportation. Die Führung zeigt das Gelände sowie das Innerste des Schwer
 belastungskörpers und beleuchtet die Geschichte des Bauwerks und der Verb
 rechen im Zuge der nationalsozialistischen Stadtplanung.Ort: Informationso
 rt Schwerbelastungskörper\,General-Pape-Straße/Loewenhardtdamm\, 12101 B
 erlin
ATTACH;FMTTYPE=image/jpeg:https://museen-tempelhof-schoeneberg.de/wp-conte
 nt/uploads/2025/05/ENTFAeLLT.jpg
CATEGORIES:Tag des offenen Denkmals 2025
END:VEVENT
BEGIN:VTIMEZONE
TZID:Europe/Berlin
X-LIC-LOCATION:Europe/Berlin
BEGIN:DAYLIGHT
DTSTART:20250330T030000
TZOFFSETFROM:+0100
TZOFFSETTO:+0200
TZNAME:CEST
END:DAYLIGHT
END:VTIMEZONE
END:VCALENDAR