BEGIN:VCALENDAR
VERSION:2.0
PRODID:-//wp-events-plugin.com//7.2.3.1//EN
TZID:Europe/Berlin
X-WR-TIMEZONE:Europe/Berlin
BEGIN:VEVENT
UID:1-3843@museen-tempelhof-schoeneberg.de
DTSTART;TZID=Europe/Berlin:20230820T150000
DTEND;TZID=Europe/Berlin:20230820T150000
DTSTAMP:20230311T174509Z
URL:https://museen-tempelhof-schoeneberg.de/events/kurator_innenfuehrung-e
 lf-freunde-muesst-ihr-sein-3/
SUMMARY:Kurator_innenführung »Elf Freunde müsst ihr sein...«
DESCRIPTION:Tempelhofer Fußballgeschichte seit den 1880er Jahren\nDer Berl
 iner Fußball beginnt Ende des 19. Jahrhunderts auf dem Tempelhofer Feld. 
 Junge Männer treffen sich hier\, malen das Spielfeld auf den Boden und ba
 uen Tore auf. In den 1920er Jahren spielen Tempelhofer Fußballer bereits 
 in Stadien vor bis zu 40.000 Zuschauer_innen. Mehrmals werden Tempelhofer 
 Vereine Berliner und sogar Deutscher Meister. Nach dem Zweiten Weltkrieg b
 leibt der sportliche Erfolg aus. Doch bis heute prägen die ältesten Fuß
 ballvereine Deutschlands den Bezirk.\nDie Sonderausstellung beleuchtet üb
 er 100 Jahre Fußball im Bezirk. Anhand von historischen Fotos und origina
 len Objekten Tempelhofer Vereine erzählt sie Alltagsgeschichte und zeigt 
 die konstante Verbindung von Sport und Politik.\nTempelhof Museum\, Alt-Ma
 rienhof 43\, 12107 Berlin\nKurator_innenführungen finden am 2.4.\, 4.6. u
 nd 20.8. jeweils 15 Uhr statt.
ATTACH;FMTTYPE=image/jpeg:https://museen-tempelhof-schoeneberg.de/wp-conte
 nt/uploads/2023/03/Elf-Freunde-muesst-ihr-sein...-Keyvisual-d65c2fa9.jpg
CATEGORIES:Tempelhof Museum
LOCATION:Tempelhof Museum\, Alt-Mariendorf 43\, Berlin\, 12107
X-APPLE-STRUCTURED-LOCATION;VALUE=URI;X-ADDRESS=Alt-Mariendorf 43\, Berlin\
 , 12107\, Deutschland;X-APPLE-RADIUS=100;X-TITLE=Tempelhof Museum:geo:0,0
END:VEVENT
BEGIN:VTIMEZONE
TZID:Europe/Berlin
X-LIC-LOCATION:Europe/Berlin
BEGIN:DAYLIGHT
DTSTART:20230326T030000
TZOFFSETFROM:+0100
TZOFFSETTO:+0200
TZNAME:CEST
END:DAYLIGHT
END:VTIMEZONE
END:VCALENDAR