BEGIN:VCALENDAR
VERSION:2.0
PRODID:-//wp-events-plugin.com//7.2.3.1//EN
TZID:Europe/Berlin
X-WR-TIMEZONE:Europe/Berlin
BEGIN:VEVENT
UID:1-6593@museen-tempelhof-schoeneberg.de
DTSTART;TZID=Europe/Berlin:20251031T110000
DTEND;TZID=Europe/Berlin:20251031T150000
DTSTAMP:20251002T131201Z
URL:https://museen-tempelhof-schoeneberg.de/events/protest-action-buehne-f
 rei-sommerferien-workshop-4/
SUMMARY:Halloween Special "Protest\, Action\, Bühne frei" (Herbstferien-Wo
 rkshop)
DESCRIPTION:Verkleidet und voller Energie bringen die Kinder ihre Ideen und
  Botschaften auf die Bühne. Mit Bewegung\, Spaß und ein bisschen Hallowe
 en-Magie zeigen sie\, wie man laut und stark für seine Meinung einsteht. 
 \n
ATTACH;FMTTYPE=image/jpeg:https://museen-tempelhof-schoeneberg.de/wp-conte
 nt/uploads/2025/03/Theater_IMG_1188-scaled.jpeg
CATEGORIES:Jugend Museum,Sommerferienprogramm im Jugend Museum
END:VEVENT
BEGIN:VTIMEZONE
TZID:Europe/Berlin
X-LIC-LOCATION:Europe/Berlin
BEGIN:STANDARD
DTSTART:20251026T020000
TZOFFSETFROM:+0200
TZOFFSETTO:+0100
TZNAME:CET
END:STANDARD
END:VTIMEZONE
END:VCALENDAR