BEGIN:VCALENDAR
VERSION:2.0
PRODID:-//wp-events-plugin.com//7.2.3.1//EN
TZID:Europe/Berlin
X-WR-TIMEZONE:Europe/Berlin
BEGIN:VEVENT
UID:1-6694@museen-tempelhof-schoeneberg.de
DTSTART;TZID=Europe/Berlin:20250806T110000
DTEND;TZID=Europe/Berlin:20250806T150000
DTSTAMP:20250805T100435Z
URL:https://museen-tempelhof-schoeneberg.de/events/protest-action-buehne-f
 rei-sommerferien-workshop/
SUMMARY:"Protest\, Action\, Bühne frei" (Sommerferien-Workshop)
DESCRIPTION:In diesem Workshop erleben die Kinder\, wie sie ihre Ideen und 
 Proteste auf die Bühne bringen. Mit Bewegung\, Spaß und viel Action zeig
 en sie\, wie man laut und stark für seine Meinung einsteht. Am Ende gibt 
 es eine kleine Präsentation!
ATTACH;FMTTYPE=image/jpeg:https://museen-tempelhof-schoeneberg.de/wp-conte
 nt/uploads/2025/03/Theater_IMG_1188-scaled.jpeg
CATEGORIES:Jugend Museum,Sommerferienprogramm im Jugend Museum
END:VEVENT
BEGIN:VTIMEZONE
TZID:Europe/Berlin
X-LIC-LOCATION:Europe/Berlin
BEGIN:DAYLIGHT
DTSTART:20250330T030000
TZOFFSETFROM:+0100
TZOFFSETTO:+0200
TZNAME:CEST
END:DAYLIGHT
END:VTIMEZONE
END:VCALENDAR