BEGIN:VCALENDAR
VERSION:2.0
PRODID:-//wp-events-plugin.com//7.2.3.1//EN
TZID:Europe/Berlin
X-WR-TIMEZONE:Europe/Berlin
BEGIN:VEVENT
UID:1-6421@museen-tempelhof-schoeneberg.de
DTSTART;TZID=Europe/Berlin:20231205T180000
DTEND;TZID=Europe/Berlin:20231205T180000
DTSTAMP:20231204T094802Z
URL:https://museen-tempelhof-schoeneberg.de/events/vielfalt-der-erinnerung
 /
SUMMARY:ABGESAGT wegen Krankheit: Vielfalt der Erinnerung - Podiumsgespräc
 h
DESCRIPTION:Eine Veranstaltung im Rahmen des Archivprojekts der Museen Temp
 elhof-Schöneberg »Vielfalt der Erinnerung«
ATTACH;FMTTYPE=image/jpeg:https://museen-tempelhof-schoeneberg.de/wp-conte
 nt/uploads/2023/11/2023_12_05-S.U.S.I.-Ankuendigungsfoto-Archiv-VA-TS.jpg
CATEGORIES:Archiv,Begleitprogramm Schöneberg
END:VEVENT
BEGIN:VTIMEZONE
TZID:Europe/Berlin
X-LIC-LOCATION:Europe/Berlin
BEGIN:STANDARD
DTSTART:20231029T020000
TZOFFSETFROM:+0200
TZOFFSETTO:+0100
TZNAME:CET
END:STANDARD
END:VTIMEZONE
END:VCALENDAR