BEGIN:VCALENDAR
VERSION:2.0
PRODID:-//wp-events-plugin.com//7.2.3.1//EN
TZID:Europe/Berlin
X-WR-TIMEZONE:Europe/Berlin
BEGIN:VEVENT
UID:1-6412@museen-tempelhof-schoeneberg.de
DTSTART;TZID=Europe/Berlin:20231129T180000
DTEND;TZID=Europe/Berlin:20231129T180000
DTSTAMP:20231113T114324Z
URL:https://museen-tempelhof-schoeneberg.de/events/vortrag-vergnuegen-in-b
 esatzungszeiten/
SUMMARY:Vortrag: Vergnügen in Besatzungszeiten
DESCRIPTION:Zwischen Freizeitvergnügen und Arbeitsalltag
ATTACH;FMTTYPE=image/jpeg:https://museen-tempelhof-schoeneberg.de/wp-conte
 nt/uploads/2023/10/2023_12_19_AlliiertenMuseum-Slg.-J.-Provan-U.S.-Army-Ph
 otograph.jpg
CATEGORIES:Begleitprogramm Schöneberg,Begleitprogramm
 Tempelhof,Luftbrücke,Tempelhof Museum
END:VEVENT
BEGIN:VTIMEZONE
TZID:Europe/Berlin
X-LIC-LOCATION:Europe/Berlin
BEGIN:STANDARD
DTSTART:20231029T020000
TZOFFSETFROM:+0200
TZOFFSETTO:+0100
TZNAME:CET
END:STANDARD
END:VTIMEZONE
END:VCALENDAR